BEGIN:VCALENDAR
VERSION:2.0
PRODID:-//Pathway Financial Education - ECPv6.15.20//NONSGML v1.0//EN
CALSCALE:GREGORIAN
METHOD:PUBLISH
X-WR-CALNAME:Pathway Financial Education
X-ORIGINAL-URL:https://pathwayeducation.org
X-WR-CALDESC:Events for Pathway Financial Education
REFRESH-INTERVAL;VALUE=DURATION:PT1H
X-Robots-Tag:noindex
X-PUBLISHED-TTL:PT1H
BEGIN:VTIMEZONE
TZID:America/Chicago
BEGIN:DAYLIGHT
TZOFFSETFROM:-0600
TZOFFSETTO:-0500
TZNAME:CDT
DTSTART:20250309T080000
END:DAYLIGHT
BEGIN:STANDARD
TZOFFSETFROM:-0500
TZOFFSETTO:-0600
TZNAME:CST
DTSTART:20251102T070000
END:STANDARD
BEGIN:DAYLIGHT
TZOFFSETFROM:-0600
TZOFFSETTO:-0500
TZNAME:CDT
DTSTART:20260308T080000
END:DAYLIGHT
BEGIN:STANDARD
TZOFFSETFROM:-0500
TZOFFSETTO:-0600
TZNAME:CST
DTSTART:20261101T070000
END:STANDARD
BEGIN:DAYLIGHT
TZOFFSETFROM:-0600
TZOFFSETTO:-0500
TZNAME:CDT
DTSTART:20270314T080000
END:DAYLIGHT
BEGIN:STANDARD
TZOFFSETFROM:-0500
TZOFFSETTO:-0600
TZNAME:CST
DTSTART:20271107T070000
END:STANDARD
END:VTIMEZONE
BEGIN:VEVENT
DTSTART;TZID=America/Chicago:20260702T180000
DTEND;TZID=America/Chicago:20260702T193000
DTSTAMP:20260420T112225
CREATED:20251211T212835Z
LAST-MODIFIED:20251211T212835Z
UID:6378-1783015200-1783020600@pathwayeducation.org
SUMMARY:Your Money\, Values\, Influences\, and Banking
DESCRIPTION:Your relationship with money can shape so many parts of your life\, and you deserve to feel confident and in control of it. In this workshop\, you’ll explore what matters most to you\, uncover the habits and influences that shape your choices\, and learn how to align your money with the goals you truly care about. \nYou’ll learn how to spot the everyday pressures that make money feel stressful. From advertising to social expectations to impulse spending\, those influences can pull you off track without you even noticing. \nYou’ll also get a straightforward introduction to the banking basics that many people wish someone had explained sooner. You’ll learn how checking and savings accounts function\, how to avoid unnecessary fees\, what to expect when opening an account\, and how to use digital tools safely. \nIf you want to feel more confident with your money\, understand your habits\, and build skills that support your long-term goals\, this workshop is a great place to start. You will leave with practical takeaways you can use right away and a better understanding of how to make your money work for you. \n\nHybrid Format\nThis workshop is offered in a hybrid format\, so you can join us in person in our classroom at our office in the 18th and Vine District or online via Zoom\, whatever works best for you. \nRegister Now
URL:https://pathwayeducation.org/event/your-money-values-influences-and-banking-2/
LOCATION:Pathway Financial Education\, 1520 East 18th Street\, Kansas City\, MO\, 64108\, United States
CATEGORIES:Adult
ATTACH;FMTTYPE=image/webp:https://pathwayeducation.org/wp-content/uploads/2025/12/Your-Money-Values-Influences-and-Banking-1.webp
END:VEVENT
BEGIN:VEVENT
DTSTART;VALUE=DATE:20260703
DTEND;VALUE=DATE:20260704
DTSTAMP:20260420T112225
CREATED:20251218T161254Z
LAST-MODIFIED:20251218T161254Z
UID:7074-1783036800-1783123199@pathwayeducation.org
SUMMARY:Office Closed for Independence Day (Observed)
DESCRIPTION:The Pathway office will be closed on Friday\, July 3\, in observance of Independence Day as we reflect on freedom and the responsibility to build opportunity for all.
URL:https://pathwayeducation.org/event/office-closed-for-independence-day-observed/
CATEGORIES:Office & Operations
END:VEVENT
BEGIN:VEVENT
DTSTART;TZID=America/Chicago:20260709T180000
DTEND;TZID=America/Chicago:20260709T193000
DTSTAMP:20260420T112225
CREATED:20251211T213010Z
LAST-MODIFIED:20251211T213010Z
UID:6380-1783620000-1783625400@pathwayeducation.org
SUMMARY:How to Build a Budget and Savings Plan That Actually Works
DESCRIPTION:Managing your money shouldn’t feel overwhelming. This workshop will help you understand where your money is going\, how to stay in control of it\, and how to build a savings plan that supports your goals\, no matter your starting point. \nYou’ll learn how to compare your income and expenses so you can understand your financial picture and make decisions with confidence. We’ll walk through how to create a monthly spending and saving plan that reflects your real life. You’ll practice identifying your needs\, wants\, and obligations\, and learn strategies to decrease expenses or increase income when money gets tight. \nWe’ll also talk about saving in a way that feels realistic. You’ll explore how to set up emergency savings\, short-term savings\, and long-term plans\, and understand how much you should aim to save based on your goals. You’ll learn different budgeting styles (including the 50/30/20 rule\, zero-based budgeting\, and the “no-budget” approach) so you can choose the one that works best for you. \nBy the end\, you’ll walk away with a clearer understanding of your money\, practical ways to make your paycheck go further\, and a simple savings plan you can start using right away. This workshop is designed to help you feel more organized\, more prepared\, and more confident in your financial life. \n\nHybrid Format\nThis workshop is offered in a hybrid format\, so you can join us in person in our classroom at our office in the 18th and Vine District or online via Zoom\, whatever works best for you. \nRegister Now
URL:https://pathwayeducation.org/event/how-to-build-a-budget-and-savings-plan-that-actually-works-2/
LOCATION:Pathway Financial Education\, 1520 East 18th Street\, Kansas City\, MO\, 64108\, United States
CATEGORIES:Adult
ATTACH;FMTTYPE=image/webp:https://pathwayeducation.org/wp-content/uploads/2025/12/Budgeting-and-Saving.webp
END:VEVENT
BEGIN:VEVENT
DTSTART;TZID=America/Chicago:20260716T180000
DTEND;TZID=America/Chicago:20260716T193000
DTSTAMP:20260420T112226
CREATED:20251211T213151Z
LAST-MODIFIED:20251211T213151Z
UID:6381-1784224800-1784230200@pathwayeducation.org
SUMMARY:How to Take Control of Your Debt
DESCRIPTION:Understanding how your debt works is the first step toward taking control. In this workshop\, you’ll learn what debt really is\, how it affects your financial future\, and how to make informed decisions about borrowing and repayment. We’ll break down interest\, fees\, credit\, delinquency\, and the life cycle of debt in a simple\, practical way. \nYou’ll also explore proven strategies like the avalanche and snowball methods\, guidance for dealing with debt collectors\, tips for navigating medical bills\, and what to watch for with high-cost loans like payday or title loans. \nWhether you’re carrying credit cards\, medical bills\, student loans\, or just want to feel more confident managing money you owe\, this session will give you tools to build a realistic plan and reduce financial stress. \n\nHybrid Format\nThis workshop is offered in a hybrid format\, so you can join us in person in our classroom at our office in the 18th and Vine District or online via Zoom\, whatever works best for you. \nRegister Now
URL:https://pathwayeducation.org/event/how-to-take-control-of-your-debt-2/
LOCATION:Pathway Financial Education\, 1520 East 18th Street\, Kansas City\, MO\, 64108\, United States
CATEGORIES:Adult
ATTACH;FMTTYPE=image/webp:https://pathwayeducation.org/wp-content/uploads/2025/12/Debt.webp
END:VEVENT
BEGIN:VEVENT
DTSTART;TZID=America/Chicago:20260722T180000
DTEND;TZID=America/Chicago:20260722T193000
DTSTAMP:20260420T112226
CREATED:20251215T211720Z
LAST-MODIFIED:20251215T211720Z
UID:6798-1784743200-1784748600@pathwayeducation.org
SUMMARY:Building Business Credit
DESCRIPTION:Strong business credit can open doors\, from better funding options to stronger vendor relationships and long-term growth. This workshop will help you understand how business credit works\, why it matters\, and how to build it in a way that supports your goals without putting unnecessary strain on your personal credit. \nYou’ll learn how to properly separate your personal and business finances\, what lenders and creditors look for when evaluating creditworthiness\, and how to start building business credit from the ground up. We’ll also cover common mistakes that can slow progress and how to avoid them before they become costly. \nIn addition\, we’ll talk through how personal credit and business credit interact\, what steps can help strengthen your overall credit profile\, and how strong credit can expand your access to funding\, partnerships\, and growth opportunities. \n\nHybrid Format\nThis workshop is offered in a hybrid format\, so you can join us in person in our classroom at our office in the 18th and Vine District or online via Zoom\, whatever works best for you. \nRegister Now
URL:https://pathwayeducation.org/event/building-business-credit-5/
LOCATION:Pathway Financial Education\, 1520 East 18th Street\, Kansas City\, MO\, 64108\, United States
CATEGORIES:Small Business
ATTACH;FMTTYPE=image/webp:https://pathwayeducation.org/wp-content/uploads/2025/12/Building-Business-Credit.webp
END:VEVENT
BEGIN:VEVENT
DTSTART;TZID=America/Chicago:20260723T180000
DTEND;TZID=America/Chicago:20260723T193000
DTSTAMP:20260420T112226
CREATED:20251211T213324Z
LAST-MODIFIED:20251211T213324Z
UID:6382-1784829600-1784835000@pathwayeducation.org
SUMMARY:Understanding Your Credit Reports and Scores
DESCRIPTION:Your credit history can shape so many parts of your life\, like access to loans\, housing\, jobs\, insurance\, and even basic services. This workshop will help you understand how credit reports and credit scores really work and what steps you can take to protect\, build\, or repair your credit. \nYou’ll learn what’s actually listed in a credit report\, how credit scoring works\, and which factors have the biggest impact on your score. We’ll walk through the three major credit reporting agencies\, what makes someone “credit invisible\,” and why having no credit can sometimes make life harder than having bad credit. \nYou’ll also learn how to get your free annual credit reports\, understand the difference between hard and soft inquiries\, and spot errors that may be hurting your score. We’ll cover how to file disputes\, what documents to include\, and how long negative information can remain on your report. \nFinally\, you’ll explore practical strategies for building or improving credit\, including secured cards\, credit-builder loans\, becoming an authorized user\, and documenting alternative credit history. We’ll also discuss how to avoid credit repair scams and how to protect yourself with fraud alerts\, credit freezes\, and credit locks. \nBy the end\, you’ll have a clear understanding of your credit profile and real tools you can use to strengthen it. \n\nHybrid Format\nThis workshop is offered in a hybrid format\, so you can join us in person in our classroom at our office in the 18th and Vine District or online via Zoom\, whatever works best for you. \nRegister Now
URL:https://pathwayeducation.org/event/understanding-your-credit-reports-and-scores-2/
LOCATION:Pathway Financial Education\, 1520 East 18th Street\, Kansas City\, MO\, 64108\, United States
CATEGORIES:Adult
ATTACH;FMTTYPE=image/webp:https://pathwayeducation.org/wp-content/uploads/2025/12/Credit.webp
END:VEVENT
END:VCALENDAR