BEGIN:VCALENDAR
VERSION:2.0
PRODID:-//Pathway Financial Education - ECPv6.15.20//NONSGML v1.0//EN
CALSCALE:GREGORIAN
METHOD:PUBLISH
X-WR-CALNAME:Pathway Financial Education
X-ORIGINAL-URL:https://pathwayeducation.org
X-WR-CALDESC:Events for Pathway Financial Education
REFRESH-INTERVAL;VALUE=DURATION:PT1H
X-Robots-Tag:noindex
X-PUBLISHED-TTL:PT1H
BEGIN:VTIMEZONE
TZID:America/Chicago
BEGIN:DAYLIGHT
TZOFFSETFROM:-0600
TZOFFSETTO:-0500
TZNAME:CDT
DTSTART:20250309T080000
END:DAYLIGHT
BEGIN:STANDARD
TZOFFSETFROM:-0500
TZOFFSETTO:-0600
TZNAME:CST
DTSTART:20251102T070000
END:STANDARD
BEGIN:DAYLIGHT
TZOFFSETFROM:-0600
TZOFFSETTO:-0500
TZNAME:CDT
DTSTART:20260308T080000
END:DAYLIGHT
BEGIN:STANDARD
TZOFFSETFROM:-0500
TZOFFSETTO:-0600
TZNAME:CST
DTSTART:20261101T070000
END:STANDARD
BEGIN:DAYLIGHT
TZOFFSETFROM:-0600
TZOFFSETTO:-0500
TZNAME:CDT
DTSTART:20270314T080000
END:DAYLIGHT
BEGIN:STANDARD
TZOFFSETFROM:-0500
TZOFFSETTO:-0600
TZNAME:CST
DTSTART:20271107T070000
END:STANDARD
BEGIN:DAYLIGHT
TZOFFSETFROM:-0600
TZOFFSETTO:-0500
TZNAME:CDT
DTSTART:20280312T080000
END:DAYLIGHT
BEGIN:STANDARD
TZOFFSETFROM:-0500
TZOFFSETTO:-0600
TZNAME:CST
DTSTART:20281105T070000
END:STANDARD
END:VTIMEZONE
BEGIN:VEVENT
DTSTART;VALUE=DATE:20261224
DTEND;VALUE=DATE:20261226
DTSTAMP:20260422T200138
CREATED:20251218T161922Z
LAST-MODIFIED:20251218T161922Z
UID:7078-1798070400-1798243199@pathwayeducation.org
SUMMARY:Office Closed for Christmas
DESCRIPTION:The Pathway office will be closed Thursday\, December 24\, and Friday\, December 25\, in observance of Christmas as we spend time with family and loved ones.
URL:https://pathwayeducation.org/event/office-closed-for-christmas-2/
LOCATION:MO
CATEGORIES:Office & Operations
END:VEVENT
BEGIN:VEVENT
DTSTART;VALUE=DATE:20261231
DTEND;VALUE=DATE:20270102
DTSTAMP:20260422T200138
CREATED:20251218T162101Z
LAST-MODIFIED:20251218T162101Z
UID:7079-1798675200-1798847999@pathwayeducation.org
SUMMARY:Office Closed for New Year's
DESCRIPTION:The Pathway office will be closed Thursday\, December 31\, and Friday\, January 1 in observance of New Year’s as we look ahead to a new year of opportunity and growth.
URL:https://pathwayeducation.org/event/office-closed-for-new-years-2/
LOCATION:MO
CATEGORIES:Office & Operations
END:VEVENT
END:VCALENDAR