BEGIN:VCALENDAR
VERSION:2.0
PRODID:-//Pathway Financial Education - ECPv6.15.20//NONSGML v1.0//EN
CALSCALE:GREGORIAN
METHOD:PUBLISH
X-ORIGINAL-URL:https://pathwayeducation.org
X-WR-CALDESC:Events for Pathway Financial Education
REFRESH-INTERVAL;VALUE=DURATION:PT1H
X-Robots-Tag:noindex
X-PUBLISHED-TTL:PT1H
BEGIN:VTIMEZONE
TZID:America/Chicago
BEGIN:DAYLIGHT
TZOFFSETFROM:-0600
TZOFFSETTO:-0500
TZNAME:CDT
DTSTART:20250309T080000
END:DAYLIGHT
BEGIN:STANDARD
TZOFFSETFROM:-0500
TZOFFSETTO:-0600
TZNAME:CST
DTSTART:20251102T070000
END:STANDARD
BEGIN:DAYLIGHT
TZOFFSETFROM:-0600
TZOFFSETTO:-0500
TZNAME:CDT
DTSTART:20260308T080000
END:DAYLIGHT
BEGIN:STANDARD
TZOFFSETFROM:-0500
TZOFFSETTO:-0600
TZNAME:CST
DTSTART:20261101T070000
END:STANDARD
BEGIN:DAYLIGHT
TZOFFSETFROM:-0600
TZOFFSETTO:-0500
TZNAME:CDT
DTSTART:20270314T080000
END:DAYLIGHT
BEGIN:STANDARD
TZOFFSETFROM:-0500
TZOFFSETTO:-0600
TZNAME:CST
DTSTART:20271107T070000
END:STANDARD
END:VTIMEZONE
BEGIN:VEVENT
DTSTART;TZID=America/Chicago:20260115T073000
DTEND;TZID=America/Chicago:20260115T090000
DTSTAMP:20260420T034214
CREATED:20251209T230055Z
LAST-MODIFIED:20251209T230055Z
UID:6163-1768462200-1768467600@pathwayeducation.org
SUMMARY:22nd Annual Mayor’s Character Breakfast
DESCRIPTION:Pathway will be attending the 22nd Annual Mayor’s Character Breakfast on January 15\, 2026\, hosted by Lee’s Summit CARES. This annual event celebrates individuals in the community who exemplify exceptional character and contribute to making Lee’s Summit a community of character. \nThe breakfast also serves as a fundraiser supporting Lee’s Summit CARES and their ongoing work in youth and family prevention programs.
URL:https://pathwayeducation.org/event/22nd-annual-mayors-character-breakfast/
CATEGORIES:Community
END:VEVENT
END:VCALENDAR