BEGIN:VCALENDAR
VERSION:2.0
PRODID:-//Pathway Financial Education - ECPv6.15.20//NONSGML v1.0//EN
CALSCALE:GREGORIAN
METHOD:PUBLISH
X-WR-CALNAME:Pathway Financial Education
X-ORIGINAL-URL:https://pathwayeducation.org
X-WR-CALDESC:Events for Pathway Financial Education
REFRESH-INTERVAL;VALUE=DURATION:PT1H
X-Robots-Tag:noindex
X-PUBLISHED-TTL:PT1H
BEGIN:VTIMEZONE
TZID:America/Chicago
BEGIN:DAYLIGHT
TZOFFSETFROM:-0600
TZOFFSETTO:-0500
TZNAME:CDT
DTSTART:20250309T080000
END:DAYLIGHT
BEGIN:STANDARD
TZOFFSETFROM:-0500
TZOFFSETTO:-0600
TZNAME:CST
DTSTART:20251102T070000
END:STANDARD
BEGIN:DAYLIGHT
TZOFFSETFROM:-0600
TZOFFSETTO:-0500
TZNAME:CDT
DTSTART:20260308T080000
END:DAYLIGHT
BEGIN:STANDARD
TZOFFSETFROM:-0500
TZOFFSETTO:-0600
TZNAME:CST
DTSTART:20261101T070000
END:STANDARD
BEGIN:DAYLIGHT
TZOFFSETFROM:-0600
TZOFFSETTO:-0500
TZNAME:CDT
DTSTART:20270314T080000
END:DAYLIGHT
BEGIN:STANDARD
TZOFFSETFROM:-0500
TZOFFSETTO:-0600
TZNAME:CST
DTSTART:20271107T070000
END:STANDARD
END:VTIMEZONE
BEGIN:VEVENT
DTSTART;TZID=America/Chicago:20260716T180000
DTEND;TZID=America/Chicago:20260716T193000
DTSTAMP:20260423T035821
CREATED:20251211T213151Z
LAST-MODIFIED:20251211T213151Z
UID:6381-1784224800-1784230200@pathwayeducation.org
SUMMARY:How to Take Control of Your Debt
DESCRIPTION:Understanding how your debt works is the first step toward taking control. In this workshop\, you’ll learn what debt really is\, how it affects your financial future\, and how to make informed decisions about borrowing and repayment. We’ll break down interest\, fees\, credit\, delinquency\, and the life cycle of debt in a simple\, practical way. \nYou’ll also explore proven strategies like the avalanche and snowball methods\, guidance for dealing with debt collectors\, tips for navigating medical bills\, and what to watch for with high-cost loans like payday or title loans. \nWhether you’re carrying credit cards\, medical bills\, student loans\, or just want to feel more confident managing money you owe\, this session will give you tools to build a realistic plan and reduce financial stress. \n\nHybrid Format\nThis workshop is offered in a hybrid format\, so you can join us in person in our classroom at our office in the 18th and Vine District or online via Zoom\, whatever works best for you. \nRegister Now
URL:https://pathwayeducation.org/event/how-to-take-control-of-your-debt-2/
LOCATION:Pathway Financial Education\, 1520 East 18th Street\, Kansas City\, MO\, 64108\, United States
CATEGORIES:Adult
ATTACH;FMTTYPE=image/webp:https://pathwayeducation.org/wp-content/uploads/2025/12/Debt.webp
END:VEVENT
END:VCALENDAR