BEGIN:VCALENDAR
VERSION:2.0
PRODID:-//Pathway Financial Education - ECPv6.15.20//NONSGML v1.0//EN
CALSCALE:GREGORIAN
METHOD:PUBLISH
X-ORIGINAL-URL:https://pathwayeducation.org
X-WR-CALDESC:Events for Pathway Financial Education
REFRESH-INTERVAL;VALUE=DURATION:PT1H
X-Robots-Tag:noindex
X-PUBLISHED-TTL:PT1H
BEGIN:VTIMEZONE
TZID:America/Chicago
BEGIN:DAYLIGHT
TZOFFSETFROM:-0600
TZOFFSETTO:-0500
TZNAME:CDT
DTSTART:20250309T080000
END:DAYLIGHT
BEGIN:STANDARD
TZOFFSETFROM:-0500
TZOFFSETTO:-0600
TZNAME:CST
DTSTART:20251102T070000
END:STANDARD
BEGIN:DAYLIGHT
TZOFFSETFROM:-0600
TZOFFSETTO:-0500
TZNAME:CDT
DTSTART:20260308T080000
END:DAYLIGHT
BEGIN:STANDARD
TZOFFSETFROM:-0500
TZOFFSETTO:-0600
TZNAME:CST
DTSTART:20261101T070000
END:STANDARD
BEGIN:DAYLIGHT
TZOFFSETFROM:-0600
TZOFFSETTO:-0500
TZNAME:CDT
DTSTART:20270314T080000
END:DAYLIGHT
BEGIN:STANDARD
TZOFFSETFROM:-0500
TZOFFSETTO:-0600
TZNAME:CST
DTSTART:20271107T070000
END:STANDARD
END:VTIMEZONE
BEGIN:VEVENT
DTSTART;TZID=America/Chicago:20260513T180000
DTEND;TZID=America/Chicago:20260513T193000
DTSTAMP:20260421T035556
CREATED:20251211T211354Z
LAST-MODIFIED:20251211T212450Z
UID:6372-1778695200-1778700600@pathwayeducation.org
SUMMARY:Planificación patrimonial
DESCRIPTION:Planificar para el futuro puede sentirse abrumador\, pero contar con los documentos adecuados es una de las formas más importantes de proteger a tus seres queridos. Este taller te ayudará a entender en qué consiste realmente la planificación patrimonial\, por qué es importante y cómo tomar decisiones que reflejen tus deseos y valores. Aprenderás lo básico de una manera clara\, accesible y basada en situaciones de la vida real. \nRevisaremos las partes fundamentales de un plan patrimonial\, como los testamentos\, las directrices médicas\, los fideicomisos y las estrategias para simplificar cómo se transfieren tus bienes. Aprenderás cómo funciona cada documento\, cuándo se necesita y de qué manera ayuda a apoyar a las personas que más te importan. \n\nConsulta GRATUITA de 1 hora con un abogado y documento de Poder Notarial\n¡Todas las personas que asistan al taller (en persona o por Zoom) también recibirán una consulta gratuita de 1 hora con un abogado de Creative Planning\, que incluye la preparación completa de un documento de Poder Notarial! Este servicio normalmente cuesta entre $400 y $750\, pero se ofrece SIN COSTO para quienes asistan al taller. Este beneficio está disponible únicamente para quienes asistan\, no solo para quienes se registren\, para asegurar que la consulta se base directamente en lo que aprendas durante la sesión. \n\nFormato híbrido\nEste taller se ofrece en un formato híbrido\, así que puedes acompañarnos en persona en nuestro salón de clases en nuestra oficina en el distrito de 18th and Vine o conectarte en línea por Zoom\, según lo que sea más conveniente para ti. \nRegístrate ahora
URL:https://pathwayeducation.org/event/planificacion-patrimonial/
LOCATION:Pathway Financial Education\, 1520 East 18th Street\, Kansas City\, MO\, 64108\, United States
CATEGORIES:Adult
ATTACH;FMTTYPE=image/webp:https://pathwayeducation.org/wp-content/uploads/2025/12/Estate-Planning-Spanish.webp
END:VEVENT
END:VCALENDAR