BEGIN:VCALENDAR
VERSION:2.0
PRODID:-//Pathway Financial Education - ECPv6.15.20//NONSGML v1.0//EN
CALSCALE:GREGORIAN
METHOD:PUBLISH
X-ORIGINAL-URL:https://pathwayeducation.org
X-WR-CALDESC:Events for Pathway Financial Education
REFRESH-INTERVAL;VALUE=DURATION:PT1H
X-Robots-Tag:noindex
X-PUBLISHED-TTL:PT1H
BEGIN:VTIMEZONE
TZID:America/Chicago
BEGIN:DAYLIGHT
TZOFFSETFROM:-0600
TZOFFSETTO:-0500
TZNAME:CDT
DTSTART:20250309T080000
END:DAYLIGHT
BEGIN:STANDARD
TZOFFSETFROM:-0500
TZOFFSETTO:-0600
TZNAME:CST
DTSTART:20251102T070000
END:STANDARD
BEGIN:DAYLIGHT
TZOFFSETFROM:-0600
TZOFFSETTO:-0500
TZNAME:CDT
DTSTART:20260308T080000
END:DAYLIGHT
BEGIN:STANDARD
TZOFFSETFROM:-0500
TZOFFSETTO:-0600
TZNAME:CST
DTSTART:20261101T070000
END:STANDARD
BEGIN:DAYLIGHT
TZOFFSETFROM:-0600
TZOFFSETTO:-0500
TZNAME:CDT
DTSTART:20270314T080000
END:DAYLIGHT
BEGIN:STANDARD
TZOFFSETFROM:-0500
TZOFFSETTO:-0600
TZNAME:CST
DTSTART:20271107T070000
END:STANDARD
END:VTIMEZONE
BEGIN:VEVENT
DTSTART;TZID=America/Chicago:20260303T180000
DTEND;TZID=America/Chicago:20260303T193000
DTSTAMP:20260420T092434
CREATED:20251215T210034Z
LAST-MODIFIED:20251215T210034Z
UID:6784-1772560800-1772566200@pathwayeducation.org
SUMMARY:Business Mastery Series: Module 5
DESCRIPTION:Part of our Business Mastery Series\, this session introduces retirement and healthcare options for business owners and employees. You’ll learn how benefits fit into your business strategy and how to choose options that support long-term sustainability. \nAbout the Business Mastery Series\nTake your business to the next level with Pathway’s 8-Week Business Mastery Series\, beginning Tuesday\, February 3. This interactive program is designed for both emerging entrepreneurs and established small business owners who want practical tools\, expert insights\, and the confidence to grow their business with intention. \nAcross eight focused sessions\, you’ll build the essential skills every business needs\, from planning and finances to marketing\, hiring\, and securing capital. Each week adds a new piece to your business foundation\, giving you the clarity and structure to strengthen your operations\, make informed decisions\, and pursue long-term success. \nRegister Now
URL:https://pathwayeducation.org/event/business-mastery-series-module-5/
LOCATION:Pathway Financial Education\, 1520 East 18th Street\, Kansas City\, MO\, 64108\, United States
CATEGORIES:Small Business
ATTACH;FMTTYPE=image/webp:https://pathwayeducation.org/wp-content/uploads/2025/12/Module-5-Benefits-101.webp
END:VEVENT
END:VCALENDAR