BEGIN:VCALENDAR
VERSION:2.0
PRODID:-//Pathway Financial Education - ECPv6.15.20//NONSGML v1.0//EN
CALSCALE:GREGORIAN
METHOD:PUBLISH
X-ORIGINAL-URL:https://pathwayeducation.org
X-WR-CALDESC:Events for Pathway Financial Education
REFRESH-INTERVAL;VALUE=DURATION:PT1H
X-Robots-Tag:noindex
X-PUBLISHED-TTL:PT1H
BEGIN:VTIMEZONE
TZID:America/Chicago
BEGIN:DAYLIGHT
TZOFFSETFROM:-0600
TZOFFSETTO:-0500
TZNAME:CDT
DTSTART:20250309T080000
END:DAYLIGHT
BEGIN:STANDARD
TZOFFSETFROM:-0500
TZOFFSETTO:-0600
TZNAME:CST
DTSTART:20251102T070000
END:STANDARD
BEGIN:DAYLIGHT
TZOFFSETFROM:-0600
TZOFFSETTO:-0500
TZNAME:CDT
DTSTART:20260308T080000
END:DAYLIGHT
BEGIN:STANDARD
TZOFFSETFROM:-0500
TZOFFSETTO:-0600
TZNAME:CST
DTSTART:20261101T070000
END:STANDARD
BEGIN:DAYLIGHT
TZOFFSETFROM:-0600
TZOFFSETTO:-0500
TZNAME:CDT
DTSTART:20270314T080000
END:DAYLIGHT
BEGIN:STANDARD
TZOFFSETFROM:-0500
TZOFFSETTO:-0600
TZNAME:CST
DTSTART:20271107T070000
END:STANDARD
END:VTIMEZONE
BEGIN:VEVENT
DTSTART;TZID=America/Chicago:20260225T180000
DTEND;TZID=America/Chicago:20260225T193000
DTSTAMP:20260420T070110
CREATED:20251215T210855Z
LAST-MODIFIED:20251215T213108Z
UID:6792-1772042400-1772047800@pathwayeducation.org
SUMMARY:Accessing Capital for Your Small Business
DESCRIPTION:Accessing capital isn’t just about filling out a loan application; it’s about understanding how lenders think and preparing your business to be a strong\, credible borrower. This workshop is designed to help business owners understand what banks look for\, how lending decisions are made\, and how to build productive relationships with banking partners. \nYou’ll learn how the loan application process works from start to finish\, what information lenders use to assess risk\, and how to realistically plan for the amount and timing of capital you’re seeking. We’ll break down common lending criteria\, including time in business\, management experience\, market conditions\, collateral\, and your ability to repay. You’ll also gain insight into underwriting and the key financial ratios banks review\, such as leverage\, liquidity\, cash flow\, and debt service coverage. \nThis session will also help you see the lending process as a two-way conversation. You’ll learn how to evaluate different types of banks\, ask the right questions\, and position your business clearly and confidently. We’ll talk through how business history\, financial statements\, and projections factor into lending decisions\, and how to avoid common missteps that can slow or derail the process. \n\nHybrid Format\nThis workshop is offered in a hybrid format\, so you can join us in person in our classroom at our office in the 18th and Vine District or online via Zoom\, whatever works best for you. \nRegister Now
URL:https://pathwayeducation.org/event/accessing-capital-for-your-small-business/
LOCATION:Pathway Financial Education\, 1520 East 18th Street\, Kansas City\, MO\, 64108\, United States
CATEGORIES:Small Business
ATTACH;FMTTYPE=image/webp:https://pathwayeducation.org/wp-content/uploads/2025/12/Module-6-Access-to-Capital.webp
END:VEVENT
END:VCALENDAR