BEGIN:VCALENDAR
VERSION:2.0
PRODID:-//Pathway Financial Education - ECPv6.15.20//NONSGML v1.0//EN
CALSCALE:GREGORIAN
METHOD:PUBLISH
X-WR-CALNAME:Pathway Financial Education
X-ORIGINAL-URL:https://pathwayeducation.org
X-WR-CALDESC:Events for Pathway Financial Education
REFRESH-INTERVAL;VALUE=DURATION:PT1H
X-Robots-Tag:noindex
X-PUBLISHED-TTL:PT1H
BEGIN:VTIMEZONE
TZID:America/Chicago
BEGIN:DAYLIGHT
TZOFFSETFROM:-0600
TZOFFSETTO:-0500
TZNAME:CDT
DTSTART:20240310T080000
END:DAYLIGHT
BEGIN:STANDARD
TZOFFSETFROM:-0500
TZOFFSETTO:-0600
TZNAME:CST
DTSTART:20241103T070000
END:STANDARD
BEGIN:DAYLIGHT
TZOFFSETFROM:-0600
TZOFFSETTO:-0500
TZNAME:CDT
DTSTART:20250309T080000
END:DAYLIGHT
BEGIN:STANDARD
TZOFFSETFROM:-0500
TZOFFSETTO:-0600
TZNAME:CST
DTSTART:20251102T070000
END:STANDARD
BEGIN:DAYLIGHT
TZOFFSETFROM:-0600
TZOFFSETTO:-0500
TZNAME:CDT
DTSTART:20260308T080000
END:DAYLIGHT
BEGIN:STANDARD
TZOFFSETFROM:-0500
TZOFFSETTO:-0600
TZNAME:CST
DTSTART:20261101T070000
END:STANDARD
END:VTIMEZONE
BEGIN:VEVENT
DTSTART;TZID=America/Chicago:20251008T180000
DTEND;TZID=America/Chicago:20251008T193000
DTSTAMP:20260423T144142
CREATED:20250513T150408Z
LAST-MODIFIED:20250913T170049Z
UID:2238-1759946400-1759951800@pathwayeducation.org
SUMMARY:Tax Season Survival: Tips and Tricks for a Smooth Filing
DESCRIPTION:Don’t wait until January! Get a head start on tax prep now and save time later!\n\n\nTax season may feel far away\, but preparing now means less stress later. \nMost people don’t start thinking about taxes until January\, but by then\, it’s often too late to make strategic moves that could save you money. Why wait until you’re scrambling to get organized when you can set yourself up for success now? \nThis workshop is designed to help you get ahead of the game—before the year ends—so you can file with confidence when tax season arrives. You’ll learn smart\, practical strategies to streamline the filing process\, maximize your deductions\, and avoid common mistakes. \nWhat You’ll Learn:\n✅ Year-End Tax Prep: Actions you can take now to reduce your tax liability\n✅ Essential Tax Documents: What to gather before January hits\n✅ Maximizing Deductions: How to identify potential write-offs before the year ends\n✅ Common Mistakes to Avoid: Learn from real-world tax filing errors\n✅ Planning for Next Year: Strategies to make tax season easier moving forward \nWhy Attend:\nWaiting until the last minute to think about taxes can lead to missed opportunities and unnecessary stress. This workshop will give you the knowledge and tools to start organizing now\, so you’re not left scrambling when the deadline approaches.
URL:https://pathwayeducation.org/event/tax-season-survival-tips-and-tricks-for-a-smooth-filing/
CATEGORIES:Adult
ATTACH;FMTTYPE=image/png:https://pathwayeducation.org/wp-content/uploads/2025/05/NEW-Adult-Eventbrite-Headers-2.png
END:VEVENT
END:VCALENDAR