BEGIN:VCALENDAR
VERSION:2.0
PRODID:-//Pathway Financial Education - ECPv6.15.20//NONSGML v1.0//EN
CALSCALE:GREGORIAN
METHOD:PUBLISH
X-ORIGINAL-URL:https://pathwayeducation.org
X-WR-CALDESC:Events for Pathway Financial Education
REFRESH-INTERVAL;VALUE=DURATION:PT1H
X-Robots-Tag:noindex
X-PUBLISHED-TTL:PT1H
BEGIN:VTIMEZONE
TZID:America/Chicago
BEGIN:DAYLIGHT
TZOFFSETFROM:-0600
TZOFFSETTO:-0500
TZNAME:CDT
DTSTART:20240310T080000
END:DAYLIGHT
BEGIN:STANDARD
TZOFFSETFROM:-0500
TZOFFSETTO:-0600
TZNAME:CST
DTSTART:20241103T070000
END:STANDARD
BEGIN:DAYLIGHT
TZOFFSETFROM:-0600
TZOFFSETTO:-0500
TZNAME:CDT
DTSTART:20250309T080000
END:DAYLIGHT
BEGIN:STANDARD
TZOFFSETFROM:-0500
TZOFFSETTO:-0600
TZNAME:CST
DTSTART:20251102T070000
END:STANDARD
BEGIN:DAYLIGHT
TZOFFSETFROM:-0600
TZOFFSETTO:-0500
TZNAME:CDT
DTSTART:20260308T080000
END:DAYLIGHT
BEGIN:STANDARD
TZOFFSETFROM:-0500
TZOFFSETTO:-0600
TZNAME:CST
DTSTART:20261101T070000
END:STANDARD
END:VTIMEZONE
BEGIN:VEVENT
DTSTART;TZID=America/Chicago:20251002T180000
DTEND;TZID=America/Chicago:20251002T193000
DTSTAMP:20260423T094159
CREATED:20250513T150406Z
LAST-MODIFIED:20250913T170048Z
UID:2236-1759428000-1759433400@pathwayeducation.org
SUMMARY:Financial Foundations: Values\, Influences\, and Banking 101
DESCRIPTION:Your money habits didn’t form overnight\, so how do you take control of them?\n\n\nAre you a young adult or professional looking to build smart money habits? Do you feel overwhelmed by financial decisions and unsure where to start? Do you want a fresh start and a clearer financial path? \nYou’re not alone! Your financial future starts with the choices you make today. Whether you’re looking to break free from bad money habits\, build a budget that aligns with your goals\, or simply understand the basics of banking\, this FREE session that’s part of our core curriculum will give you the confidence and knowledge to take control of your finances. \nWhat You’ll Learn\n✅ How your personal values shape your financial decisions\n✅ The hidden influences that impact your spending and saving habits\n✅ Banking essentials: checking\, savings\, credit\, and beyond \nThis isn’t just another finance talk; it’s an opportunity to gain real\, actionable knowledge from someone who has dedicated her career to financial empowerment. This workshop will give you the insight\, confidence\, and tools you need to take the next step. \nAttend in person for an interactive experience\, or join virtually from the comfort of your home!
URL:https://pathwayeducation.org/event/financial-foundations-values-influences-and-banking-101-3/
CATEGORIES:Adult
ATTACH;FMTTYPE=image/png:https://pathwayeducation.org/wp-content/uploads/2025/05/NEW-Adult-Eventbrite-Headers-3.png
END:VEVENT
END:VCALENDAR