BEGIN:VCALENDAR
VERSION:2.0
PRODID:-//Pathway Financial Education - ECPv6.15.20//NONSGML v1.0//EN
CALSCALE:GREGORIAN
METHOD:PUBLISH
X-WR-CALNAME:Pathway Financial Education
X-ORIGINAL-URL:https://pathwayeducation.org
X-WR-CALDESC:Events for Pathway Financial Education
REFRESH-INTERVAL;VALUE=DURATION:PT1H
X-Robots-Tag:noindex
X-PUBLISHED-TTL:PT1H
BEGIN:VTIMEZONE
TZID:America/Chicago
BEGIN:DAYLIGHT
TZOFFSETFROM:-0600
TZOFFSETTO:-0500
TZNAME:CDT
DTSTART:20240310T080000
END:DAYLIGHT
BEGIN:STANDARD
TZOFFSETFROM:-0500
TZOFFSETTO:-0600
TZNAME:CST
DTSTART:20241103T070000
END:STANDARD
BEGIN:DAYLIGHT
TZOFFSETFROM:-0600
TZOFFSETTO:-0500
TZNAME:CDT
DTSTART:20250309T080000
END:DAYLIGHT
BEGIN:STANDARD
TZOFFSETFROM:-0500
TZOFFSETTO:-0600
TZNAME:CST
DTSTART:20251102T070000
END:STANDARD
BEGIN:DAYLIGHT
TZOFFSETFROM:-0600
TZOFFSETTO:-0500
TZNAME:CDT
DTSTART:20260308T080000
END:DAYLIGHT
BEGIN:STANDARD
TZOFFSETFROM:-0500
TZOFFSETTO:-0600
TZNAME:CST
DTSTART:20261101T070000
END:STANDARD
END:VTIMEZONE
BEGIN:VEVENT
DTSTART;TZID=America/Chicago:20250924T180000
DTEND;TZID=America/Chicago:20250924T193000
DTSTAMP:20260423T124448
CREATED:20250513T150405Z
LAST-MODIFIED:20250913T170047Z
UID:2234-1758736800-1758742200@pathwayeducation.org
SUMMARY:The Art of the Ask: The Sales Mindset Shift
DESCRIPTION:Sales success starts with the right questions. Discover the mindset that makes it happen!\n\n\nIf your sales strategy feels more like a monologue than a conversation\, it’s time for a change. Successful salespeople know that quality questioning can transform a pitch from pushy to powerful. Knowing what to ask—and why—can make all the difference. \nThis workshop will teach you to reframe your sales mindset by mastering the art of strategic questioning. Whether you’re leading a team or making pitches yourself\, this session will give you the tools to engage clients more effectively and open new avenues for business growth. \nWhat You’ll Learn:\n✅ The Power of Questioning: How intentional\, well-crafted questions change the sales dynamic\n✅ Understanding the ‘Why’: Discover why your questions matter and how they influence client perception\n✅ Strategic Question Categories: Learn the types of questions that drive meaningful conversations and business expansion\n✅ Mindset Shifts for Success: Move from selling to guiding clients toward their own conclusions\n✅ Practical Exercises: Practice asking powerful questions to see how they shape client engagement \nMeet Your Speakers: Caleb & Mary Beth Lutz\n\n\n\nThis workshop is presented by Caleb and Mary Beth Lutz of Lutz Grow Sales & Marketing. With a unique blend of education\, training\, and hands-on sales experience\, Caleb and Mary Beth bring real-world insights to entrepreneurial success. After starting in teaching and corporate training\, they spent five years in sales\, mentoring and coaching peers. As serial entrepreneurs with ventures in e-commerce\, agriculture\, and logistics\, they know firsthand how the power of strategic questioning can transform business outcomes. Their mission is to empower others through practical\, experience-based lessons in financial stewardship and effective sales communication. \nWhy Attend:\nIf you’re ready to move beyond the usual sales script and start connecting with clients on a deeper level\, this workshop is for you. You’ll learn how to think differently about the sales process\, using strategic questioning to build relationships\, understand needs\, and close deals more effectively.
URL:https://pathwayeducation.org/event/the-art-of-the-ask-the-sales-mindset-shift/
CATEGORIES:Small Business
ATTACH;FMTTYPE=image/png:https://pathwayeducation.org/wp-content/uploads/2025/05/NEW-Eventbrite-Small-Business-Headers-1.png
END:VEVENT
END:VCALENDAR