BEGIN:VCALENDAR
VERSION:2.0
PRODID:-//Pathway Financial Education - ECPv6.15.20//NONSGML v1.0//EN
CALSCALE:GREGORIAN
METHOD:PUBLISH
X-ORIGINAL-URL:https://pathwayeducation.org
X-WR-CALDESC:Events for Pathway Financial Education
REFRESH-INTERVAL;VALUE=DURATION:PT1H
X-Robots-Tag:noindex
X-PUBLISHED-TTL:PT1H
BEGIN:VTIMEZONE
TZID:America/Chicago
BEGIN:DAYLIGHT
TZOFFSETFROM:-0600
TZOFFSETTO:-0500
TZNAME:CDT
DTSTART:20240310T080000
END:DAYLIGHT
BEGIN:STANDARD
TZOFFSETFROM:-0500
TZOFFSETTO:-0600
TZNAME:CST
DTSTART:20241103T070000
END:STANDARD
BEGIN:DAYLIGHT
TZOFFSETFROM:-0600
TZOFFSETTO:-0500
TZNAME:CDT
DTSTART:20250309T080000
END:DAYLIGHT
BEGIN:STANDARD
TZOFFSETFROM:-0500
TZOFFSETTO:-0600
TZNAME:CST
DTSTART:20251102T070000
END:STANDARD
BEGIN:DAYLIGHT
TZOFFSETFROM:-0600
TZOFFSETTO:-0500
TZNAME:CDT
DTSTART:20260308T080000
END:DAYLIGHT
BEGIN:STANDARD
TZOFFSETFROM:-0500
TZOFFSETTO:-0600
TZNAME:CST
DTSTART:20261101T070000
END:STANDARD
END:VTIMEZONE
BEGIN:VEVENT
DTSTART;TZID=America/Chicago:20250827T180000
DTEND;TZID=America/Chicago:20250827T193000
DTSTAMP:20260423T105450
CREATED:20250731T173320Z
LAST-MODIFIED:20250827T092932Z
UID:2401-1756317600-1756323000@pathwayeducation.org
SUMMARY:Building Business Credit
DESCRIPTION:If your business goals are big\, your credit game needs to match.\n\n\nThis free workshop is your step-by-step guide to building and maintaining strong business credit\, without sacrificing your personal credit in the process. Whether you’re just starting out or looking to grow\, you’ll learn practical ways to boost your creditworthiness and open the doors to better funding options\, vendor relationships\, and long-term success. \nWhat You’ll Learn:\n✅ How to separate personal and business credit the right way \n✅ Step-by-step process for building business credit from scratch \n✅ What lenders look for when evaluating creditworthiness \n✅ Tips to improve your personal credit score \n✅ How to avoid common credit mistakes that hold businesses back \n✅ The funding opportunities good credit can unlock \nThis isn’t just theory\, it’s real-world guidance you can act on immediately. \nJoin us and take the next step toward financial freedom and business growth.
URL:https://pathwayeducation.org/event/building-business-credit-2/
CATEGORIES:Small Business
ATTACH;FMTTYPE=image/jpeg:https://pathwayeducation.org/wp-content/uploads/2025/07/ec308f7499eae3664793c5c9b160bd8c-cGkWp5.tmp_.jpg
END:VEVENT
END:VCALENDAR