BEGIN:VCALENDAR
VERSION:2.0
PRODID:-//Pathway Financial Education - ECPv6.15.20//NONSGML v1.0//EN
CALSCALE:GREGORIAN
METHOD:PUBLISH
X-ORIGINAL-URL:https://pathwayeducation.org
X-WR-CALDESC:Events for Pathway Financial Education
REFRESH-INTERVAL;VALUE=DURATION:PT1H
X-Robots-Tag:noindex
X-PUBLISHED-TTL:PT1H
BEGIN:VTIMEZONE
TZID:America/Chicago
BEGIN:DAYLIGHT
TZOFFSETFROM:-0600
TZOFFSETTO:-0500
TZNAME:CDT
DTSTART:20240310T080000
END:DAYLIGHT
BEGIN:STANDARD
TZOFFSETFROM:-0500
TZOFFSETTO:-0600
TZNAME:CST
DTSTART:20241103T070000
END:STANDARD
BEGIN:DAYLIGHT
TZOFFSETFROM:-0600
TZOFFSETTO:-0500
TZNAME:CDT
DTSTART:20250309T080000
END:DAYLIGHT
BEGIN:STANDARD
TZOFFSETFROM:-0500
TZOFFSETTO:-0600
TZNAME:CST
DTSTART:20251102T070000
END:STANDARD
BEGIN:DAYLIGHT
TZOFFSETFROM:-0600
TZOFFSETTO:-0500
TZNAME:CDT
DTSTART:20260308T080000
END:DAYLIGHT
BEGIN:STANDARD
TZOFFSETFROM:-0500
TZOFFSETTO:-0600
TZNAME:CST
DTSTART:20261101T070000
END:STANDARD
END:VTIMEZONE
BEGIN:VEVENT
DTSTART;TZID=America/Chicago:20250710T180000
DTEND;TZID=America/Chicago:20250710T193000
DTSTAMP:20260423T053629
CREATED:20250513T150353Z
LAST-MODIFIED:20250710T040215Z
UID:2223-1752170400-1752175800@pathwayeducation.org
SUMMARY:Penny Wise: Effective Budgeting and Saving Strategies
DESCRIPTION:What if your budget actually worked for you\, not against you?\n\n\nManaging money shouldn’t feel like a guessing game. Whether you’re just starting out or looking to improve your financial habits\, a solid budget is the key to feeling more in control. But where do you start? And how do you make a budget that actually works for you? \nJoin us for a FREE hands-on session where we’ll break down the best budgeting methods\, show you how to make saving easier\, and give you the tools to take charge of your money. \nBONUS: Exclusive budgeting worksheets and trackers!\nAll attendees—whether joining in person or virtually—will receive our exclusive budgeting book and templated budgeting and savings trackers to help put these strategies into action right away! \nWhat You’ll Learn:\n✅ Why budgeting isn’t about restriction—it’s about freedom and financial confidence\n✅ Different budgeting techniques and how to choose one that fits your lifestyle\n✅ Smart saving strategies to help you keep more of what you earn \nMost people don’t budget because they think it’s complicated\, time-consuming\, or too restrictive. But when done right\, budgeting puts you in control of your money\, not the other way around. Part of our core curriculum\, this session is designed to help you find an approach that works for you and set you up for long-term success. \nAttend in person for an interactive experience\, or join virtually from the comfort of your home!
URL:https://pathwayeducation.org/event/penny-wise-effective-budgeting-and-saving-strategies-2/
CATEGORIES:Adult
ATTACH;FMTTYPE=image/png:https://pathwayeducation.org/wp-content/uploads/2025/05/NEW-Adult-Eventbrite-Headers-7.png
END:VEVENT
END:VCALENDAR